Workbook

Sheet Llistat Jugadors

Sheet SOCIAL TENNIS  2026
I2: CLUB TENNIS SANT CELONI
J4: SOCIAL 2026
A7: Núm. Sorteig | C7: CS | D7: Llicència | F7: D | G7: Nom | H7: Cognom (1) | I7: Cognom (2)
B9: 1 | C9: 1 | D9: =IF($A9="","",VLOOKUP($A9,'Llistat Jugadors'!$A$1:$N$249,2,0)) | E9: - | F9: =IF($A9="","",VLOOKUP($A9,'Llistat Jugadors'!$A$1:$N$249,3,0)) | G9: ISAAC TRIGO
J10: ISAAC TRIGO
B11: 2 | D11: =IF($A11="","",VLOOKUP($A11,'Llistat Jugadors'!$A$1:$N$249,2,0)) | E11: - | F11: =IF($A11="","",VLOOKUP($A11,'Llistat Jugadors'!$A$1:$N$249,3,0)) | G11: BYE
B13: 3 | D13: =IF($A13="","",VLOOKUP($A13,'Llistat Jugadors'!$A$1:$N$249,2,0)) | E13: - | F13: =IF($A13="","",VLOOKUP($A13,'Llistat Jugadors'!$A$1:$N$249,3,0)) | G13: ALBERT PRAT
B15: 4 | D15: =IF($A15="","",VLOOKUP($A15,'Llistat Jugadors'!$A$1:$N$249,2,0)) | E15: - | F15: =IF($A15="","",VLOOKUP($A15,'Llistat Jugadors'!$A$1:$N$249,3,0)) | G15: JOSEFINA LOZA
B17: 5 | D17: =IF($A17="","",VLOOKUP($A17,'Llistat Jugadors'!$A$1:$N$249,2,0)) | E17: - | F17: =IF($A17="","",VLOOKUP($A17,'Llistat Jugadors'!$A$1:$N$249,3,0)) | G17: MARINA PY
B19: 6 | D19: =IF($A19="","",VLOOKUP($A19,'Llistat Jugadors'!$A$1:$N$249,2,0)) | E19: - | F19: =IF($A19="","",VLOOKUP($A19,'Llistat Jugadors'!$A$1:$N$249,3,0)) | G19: JUAN PABLO BLANCO
B21: 7 | D21: =IF($A21="","",VLOOKUP($A21,'Llistat Jugadors'!$A$1:$N$249,2,0)) | E21: - | F21: =IF($A21="","",VLOOKUP($A21,'Llistat Jugadors'!$A$1:$N$249,3,0)) | G21: BYE
J22: MARCEL ROSELL
B23: 8 | D23: =IF($A23="","",VLOOKUP($A23,'Llistat Jugadors'!$A$1:$N$249,2,0)) | E23: - | F23: =IF($A23="","",VLOOKUP($A23,'Llistat Jugadors'!$A$1:$N$249,3,0)) | G23: MARCEL ROSELL
B25: 9 | D25: =IF($A25="","",VLOOKUP($A25,'Llistat Jugadors'!$A$1:$N$249,2,0)) | E25: - | F25: =IF($A25="","",VLOOKUP($A25,'Llistat Jugadors'!$A$1:$N$249,3,0)) | G25: DIDAC RODOREDA
B27: 10 | D27: =IF($A27="","",VLOOKUP($A27,'Llistat Jugadors'!$A$1:$N$249,2,0)) | E27: - | F27: =IF($A27="","",VLOOKUP($A27,'Llistat Jugadors'!$A$1:$N$249,3,0)) | G27: JOSEP ANTOLINEZ
B29: 11 | D29: =IF($A29="","",VLOOKUP($A29,'Llistat Jugadors'!$A$1:$N$249,2,0)) | E29: - | F29: =IF($A29="","",VLOOKUP($A29,'Llistat Jugadors'!$A$1:$N$249,3,0)) | G29: JORDI POMES
B31: 12 | D31: =IF($A31="","",VLOOKUP($A31,'Llistat Jugadors'!$A$1:$N$249,2,0)) | E31: - | F31: =IF($A31="","",VLOOKUP($A31,'Llistat Jugadors'!$A$1:$N$249,3,0)) | G31: RAFA RIOS
B33: 13 | D33: =IF($A33="","",VLOOKUP($A33,'Llistat Jugadors'!$A$1:$N$249,2,0)) | E33: - | F33: =IF($A33="","",VLOOKUP($A33,'Llistat Jugadors'!$A$1:$N$249,3,0)) | G33: FERDY ESPARZA
B35: 14 | D35: =IF($A35="","",VLOOKUP($A35,'Llistat Jugadors'!$A$1:$N$249,2,0)) | E35: - | F35: =IF($A35="","",VLOOKUP($A35,'Llistat Jugadors'!$A$1:$N$249,3,0)) | G35: PAU COTET
B37: 15 | D37: =IF($A37="","",VLOOKUP($A37,'Llistat Jugadors'!$A$1:$N$249,2,0)) | E37: - | F37: =IF($A37="","",VLOOKUP($A37,'Llistat Jugadors'!$A$1:$N$249,3,0)) | G37: BYE
J38: CARLES PUCHE
B39: 16 | C39: 3-4 | D39: =IF($A39="","",VLOOKUP($A39,'Llistat Jugadors'!$A$1:$N$249,2,0)) | E39: - | F39: =IF($A39="","",VLOOKUP($A39,'Llistat Jugadors'!$A$1:$N$249,3,0)) | G39: CARLES PUCHE
B41: 17 | C41: 3-4 | D41: =IF($A41="","",VLOOKUP($A41,'Llistat Jugadors'!$A$1:$N$249,2,0)) | E41: - | F41: =IF($A41="","",VLOOKUP($A41,'Llistat Jugadors'!$A$1:$N$249,3,0)) | G41: IGNASI MORELLO
J42: IGNASI MORELLO
B43: 18 | D43: =IF($A43="","",VLOOKUP($A43,'Llistat Jugadors'!$A$1:$N$249,2,0)) | E43: - | F43: =IF($A43="","",VLOOKUP($A43,'Llistat Jugadors'!$A$1:$N$249,3,0)) | G43: BYE
B45: 19 | D45: =IF($A45="","",VLOOKUP($A45,'Llistat Jugadors'!$A$1:$N$249,2,0)) | E45: - | F45: =IF($A45="","",VLOOKUP($A45,'Llistat Jugadors'!$A$1:$N$249,3,0)) | G45: FRANCESC BASCUÑANA
B47: 20 | D47: =IF($A47="","",VLOOKUP($A47,'Llistat Jugadors'!$A$1:$N$249,2,0)) | E47: - | F47: =IF($A47="","",VLOOKUP($A47,'Llistat Jugadors'!$A$1:$N$249,3,0)) | G47: ERIC JAEN
B49: 21 | D49: =IF($A49="","",VLOOKUP($A49,'Llistat Jugadors'!$A$1:$N$249,2,0)) | E49: - | F49: =IF($A49="","",VLOOKUP($A49,'Llistat Jugadors'!$A$1:$N$249,3,0)) | G49: BIEL MARTINEZ
B51: 22 | D51: =IF($A51="","",VLOOKUP($A51,'Llistat Jugadors'!$A$1:$N$249,2,0)) | E51: - | F51: =IF($A51="","",VLOOKUP($A51,'Llistat Jugadors'!$A$1:$N$249,3,0)) | G51: ENRIC VELLVE
B53: 23 | D53: =IF($A53="","",VLOOKUP($A53,'Llistat Jugadors'!$A$1:$N$249,2,0)) | E53: - | F53: =IF($A53="","",VLOOKUP($A53,'Llistat Jugadors'!$A$1:$N$249,3,0)) | G53: CARLES MORENO
B55: 24 | D55: =IF($A55="","",VLOOKUP($A55,'Llistat Jugadors'!$A$1:$N$249,2,0)) | E55: - | F55: =IF($A55="","",VLOOKUP($A55,'Llistat Jugadors'!$A$1:$N$249,3,0)) | G55: POL LOPEZ
B57: 25 | D57: =IF($A57="","",VLOOKUP($A57,'Llistat Jugadors'!$A$1:$N$249,2,0)) | E57: - | F57: =IF($A57="","",VLOOKUP($A57,'Llistat Jugadors'!$A$1:$N$249,3,0)) | G57: ORIOL GOMEZ
J58: ORIOL GOMEZ
B59: 26 | D59: =IF($A59="","",VLOOKUP($A59,'Llistat Jugadors'!$A$1:$N$249,2,0)) | E59: - | F59: =IF($A59="","",VLOOKUP($A59,'Llistat Jugadors'!$A$1:$N$249,3,0)) | G59: BYE
B61: 27 | D61: =IF($A61="","",VLOOKUP($A61,'Llistat Jugadors'!$A$1:$N$249,2,0)) | E61: - | F61: =IF($A61="","",VLOOKUP($A61,'Llistat Jugadors'!$A$1:$N$249,3,0)) | G61: ALVARO RIOS
B63: 28 | D63: =IF($A63="","",VLOOKUP($A63,'Llistat Jugadors'!$A$1:$N$249,2,0)) | E63: - | F63: =IF($A63="","",VLOOKUP($A63,'Llistat Jugadors'!$A$1:$N$249,3,0)) | G63: POL BRASO
B65: 29 | D65: =IF($A65="","",VLOOKUP($A65,'Llistat Jugadors'!$A$1:$N$249,2,0)) | E65: - | F65: =IF($A65="","",VLOOKUP($A65,'Llistat Jugadors'!$A$1:$N$249,3,0)) | G65: CLARA MORELLO
B67: 30 | D67: =IF($A67="","",VLOOKUP($A67,'Llistat Jugadors'!$A$1:$N$249,2,0)) | E67: - | F67: =IF($A67="","",VLOOKUP($A67,'Llistat Jugadors'!$A$1:$N$249,3,0)) | G67: ROSA SITJA
B69: 31 | D69: =IF($A69="","",VLOOKUP($A69,'Llistat Jugadors'!$A$1:$N$249,2,0)) | E69: - | F69: =IF($A69="","",VLOOKUP($A69,'Llistat Jugadors'!$A$1:$N$249,3,0)) | G69: BYE
J70: IKER SANCHEZ
B71: 32 | C71: 2 | D71: =IF($A71="","",VLOOKUP($A71,'Llistat Jugadors'!$A$1:$N$249,2,0)) | E71: - | F71: =IF($A71="","",VLOOKUP($A71,'Llistat Jugadors'!$A$1:$N$249,3,0)) | G71: IKER SANCHEZ
L72: Data:

Sheet CONSOLACIÓ TENNIS 2026
I2: CLUB TENNIS SANT CELONI
J4: SOCIAL 2026
A7: Núm. Sorteig | C7: CS | D7: Llicència | F7: D | G7: Nom | H7: Cognom (1) | I7: Cognom (2) | K7: CONSOLACIÓ
B9: 1 | C9: 1 | D9: =IF($A9="","",VLOOKUP($A9,'Llistat Jugadors'!$A$1:$N$249,2,0)) | E9: - | F9: =IF($A9="","",VLOOKUP($A9,'Llistat Jugadors'!$A$1:$N$249,3,0))
B11: 2 | D11: =IF($A11="","",VLOOKUP($A11,'Llistat Jugadors'!$A$1:$N$249,2,0)) | E11: - | F11: =IF($A11="","",VLOOKUP($A11,'Llistat Jugadors'!$A$1:$N$249,3,0))
B13: 3 | D13: =IF($A13="","",VLOOKUP($A13,'Llistat Jugadors'!$A$1:$N$249,2,0)) | E13: - | F13: =IF($A13="","",VLOOKUP($A13,'Llistat Jugadors'!$A$1:$N$249,3,0))
B15: 4 | D15: =IF($A15="","",VLOOKUP($A15,'Llistat Jugadors'!$A$1:$N$249,2,0)) | E15: - | F15: =IF($A15="","",VLOOKUP($A15,'Llistat Jugadors'!$A$1:$N$249,3,0))
B17: 5 | D17: =IF($A17="","",VLOOKUP($A17,'Llistat Jugadors'!$A$1:$N$249,2,0)) | E17: - | F17: =IF($A17="","",VLOOKUP($A17,'Llistat Jugadors'!$A$1:$N$249,3,0))
B19: 6 | D19: =IF($A19="","",VLOOKUP($A19,'Llistat Jugadors'!$A$1:$N$249,2,0)) | E19: - | F19: =IF($A19="","",VLOOKUP($A19,'Llistat Jugadors'!$A$1:$N$249,3,0))
B21: 7 | D21: =IF($A21="","",VLOOKUP($A21,'Llistat Jugadors'!$A$1:$N$249,2,0)) | E21: - | F21: =IF($A21="","",VLOOKUP($A21,'Llistat Jugadors'!$A$1:$N$249,3,0))
B23: 8 | D23: =IF($A23="","",VLOOKUP($A23,'Llistat Jugadors'!$A$1:$N$249,2,0)) | E23: - | F23: =IF($A23="","",VLOOKUP($A23,'Llistat Jugadors'!$A$1:$N$249,3,0))
B25: 9 | C25: 3 4 | D25: =IF($A25="","",VLOOKUP($A25,'Llistat Jugadors'!$A$1:$N$249,2,0)) | E25: - | F25: =IF($A25="","",VLOOKUP($A25,'Llistat Jugadors'!$A$1:$N$249,3,0))
B27: 10 | D27: =IF($A27="","",VLOOKUP($A27,'Llistat Jugadors'!$A$1:$N$249,2,0)) | E27: - | F27: =IF($A27="","",VLOOKUP($A27,'Llistat Jugadors'!$A$1:$N$249,3,0))
B29: 11 | D29: =IF($A29="","",VLOOKUP($A29,'Llistat Jugadors'!$A$1:$N$249,2,0)) | E29: - | F29: =IF($A29="","",VLOOKUP($A29,'Llistat Jugadors'!$A$1:$N$249,3,0))
B31: 12 | D31: =IF($A31="","",VLOOKUP($A31,'Llistat Jugadors'!$A$1:$N$249,2,0)) | E31: - | F31: =IF($A31="","",VLOOKUP($A31,'Llistat Jugadors'!$A$1:$N$249,3,0))
B33: 13 | D33: =IF($A33="","",VLOOKUP($A33,'Llistat Jugadors'!$A$1:$N$249,2,0)) | E33: - | F33: =IF($A33="","",VLOOKUP($A33,'Llistat Jugadors'!$A$1:$N$249,3,0))
B35: 14 | D35: =IF($A35="","",VLOOKUP($A35,'Llistat Jugadors'!$A$1:$N$249,2,0)) | E35: - | F35: =IF($A35="","",VLOOKUP($A35,'Llistat Jugadors'!$A$1:$N$249,3,0))
B37: 15 | D37: =IF($A37="","",VLOOKUP($A37,'Llistat Jugadors'!$A$1:$N$249,2,0)) | E37: - | F37: =IF($A37="","",VLOOKUP($A37,'Llistat Jugadors'!$A$1:$N$249,3,0))
B39: 16 | D39: =IF($A39="","",VLOOKUP($A39,'Llistat Jugadors'!$A$1:$N$249,2,0)) | E39: - | F39: =IF($A39="","",VLOOKUP($A39,'Llistat Jugadors'!$A$1:$N$249,3,0))
B41: 17 | D41: =IF($A41="","",VLOOKUP($A41,'Llistat Jugadors'!$A$1:$N$249,2,0)) | E41: - | F41: =IF($A41="","",VLOOKUP($A41,'Llistat Jugadors'!$A$1:$N$249,3,0))
B43: 18 | D43: =IF($A43="","",VLOOKUP($A43,'Llistat Jugadors'!$A$1:$N$249,2,0)) | E43: - | F43: =IF($A43="","",VLOOKUP($A43,'Llistat Jugadors'!$A$1:$N$249,3,0))
B45: 19 | D45: =IF($A45="","",VLOOKUP($A45,'Llistat Jugadors'!$A$1:$N$249,2,0)) | E45: - | F45: =IF($A45="","",VLOOKUP($A45,'Llistat Jugadors'!$A$1:$N$249,3,0))
B47: 20 | D47: =IF($A47="","",VLOOKUP($A47,'Llistat Jugadors'!$A$1:$N$249,2,0)) | E47: - | F47: =IF($A47="","",VLOOKUP($A47,'Llistat Jugadors'!$A$1:$N$249,3,0))
B49: 21 | D49: =IF($A49="","",VLOOKUP($A49,'Llistat Jugadors'!$A$1:$N$249,2,0)) | E49: - | F49: =IF($A49="","",VLOOKUP($A49,'Llistat Jugadors'!$A$1:$N$249,3,0))
... B53: 23 | D53: =IF($A53="","",VLOOKUP($A53,'Llistat Jugadors'!$A$1:$N$249,2,0)) | E53: - | F53: =IF($A53="","",VLOOKUP($A53,'Llistat Jugadors'!$A$1:$N$249,3,0))
B55: 24 | C55: 3 4 | D55: =IF($A55="","",VLOOKUP($A55,'Llistat Jugadors'!$A$1:$N$249,2,0)) | E55: - | F55: =IF($A55="","",VLOOKUP($A55,'Llistat Jugadors'!$A$1:$N$249,3,0))
B57: 25 | D57: =IF($A57="","",VLOOKUP($A57,'Llistat Jugadors'!$A$1:$N$249,2,0)) | E57: - | F57: =IF($A57="","",VLOOKUP($A57,'Llistat Jugadors'!$A$1:$N$249,3,0))
B59: 26 | D59: =IF($A59="","",VLOOKUP($A59,'Llistat Jugadors'!$A$1:$N$249,2,0)) | E59: - | F59: =IF($A59="","",VLOOKUP($A59,'Llistat Jugadors'!$A$1:$N$249,3,0))
B61: 27 | D61: =IF($A61="","",VLOOKUP($A61,'Llistat Jugadors'!$A$1:$N$249,2,0)) | E61: - | F61: =IF($A61="","",VLOOKUP($A61,'Llistat Jugadors'!$A$1:$N$249,3,0))
B63: 28 | D63: =IF($A63="","",VLOOKUP($A63,'Llistat Jugadors'!$A$1:$N$249,2,0)) | E63: - | F63: =IF($A63="","",VLOOKUP($A63,'Llistat Jugadors'!$A$1:$N$249,3,0))
B65: 29 | D65: =IF($A65="","",VLOOKUP($A65,'Llistat Jugadors'!$A$1:$N$249,2,0)) | E65: - | F65: =IF($A65="","",VLOOKUP($A65,'Llistat Jugadors'!$A$1:$N$249,3,0))
B67: 30 | D67: =IF($A67="","",VLOOKUP($A67,'Llistat Jugadors'!$A$1:$N$249,2,0)) | E67: - | F67: =IF($A67="","",VLOOKUP($A67,'Llistat Jugadors'!$A$1:$N$249,3,0))
B69: 31 | D69: =IF($A69="","",VLOOKUP($A69,'Llistat Jugadors'!$A$1:$N$249,2,0)) | E69: - | F69: =IF($A69="","",VLOOKUP($A69,'Llistat Jugadors'!$A$1:$N$249,3,0))
B71: 32 | C71: 2 | D71: =IF($A71="","",VLOOKUP($A71,'Llistat Jugadors'!$A$1:$N$249,2,0)) | E71: - | F71: =IF($A71="","",VLOOKUP($A71,'Llistat Jugadors'!$A$1:$N$249,3,0))
